BEGIN:VCALENDAR
VERSION:2.0
PRODID:-//TYPO3/NONSGML News system (news)//EN
BEGIN:VEVENT
UID:news-117921@physikdidaktik.uni-graz.at
DTSTAMP:20240903T081540Z
DTSTART:20241003T143000Z
DTEND:20241003T152000Z
SUMMARY:Virtuelle Physik-Lounge

DESCRIPTION:Der Fachbereich Physikdidaktik lädt zu einem zwanglosen Online-Get-Together für Physiklehrkräfte
END:VEVENT
END:VCALENDAR
