BEGIN:VCALENDAR
VERSION:2.0
PRODID:-//TYPO3/NONSGML News system (news)//EN
BEGIN:VEVENT
UID:news-120747@physikdidaktik.uni-graz.at
DTSTAMP:20241118T113153Z
DTSTART:20241209T153000Z
DTEND:20241209T162000Z
SUMMARY:Die Virtuelle Physik-Lounge geht in die nächste Runde!

DESCRIPTION:Das Team des Fachbereichs Physikdidaktik lädt Sie herzlich zur zweiten Ausgabe unserer Virtuellen Physik-Lounge ein.
END:VEVENT
END:VCALENDAR
